BEGIN:VCALENDAR
PRODID:-//Mozilla.org/NONSGML Mozilla Calendar V1.1//EN
VERSION:2.0
CALSCALE:GREGORIAN
BEGIN:VEVENT
DTSTAMP:20260421T155452Z
DTSTART:20260422T050000
DTEND:20260422T053000
SUMMARY:2018 MITSUBISHI L200 TRITON SPORT 
LOCATION:http://www.copart.com.br:80
DESCRIPTION:Please join us for the following auction:\n\n2018 MITSUBISHI 
 L200 TRITON SPORT \nwww.copart.com.br\n\n\n\nContact us at member.servic
 es@copart.com or (972) 391-5400 if you have any questions leading up to 
 the auction.\n\n\n-Your Copart Team
UID:20260421T155452Z-uidGen@lvpbaw212.corp.copart.com
END:VEVENT
END:VCALENDAR
